BEGIN:VCALENDAR
VERSION:2.0
PRODID:-//Gary Ryan - Official Website of the Guitarist and Composer - ECPv5.0.2//NONSGML v1.0//EN
CALSCALE:GREGORIAN
METHOD:PUBLISH
X-WR-CALNAME:Gary Ryan - Official Website of the Guitarist and Composer
X-ORIGINAL-URL:https://garyryan.co.uk
X-WR-CALDESC:Events for Gary Ryan - Official Website of the Guitarist and Composer
BEGIN:VTIMEZONE
TZID:Europe/London
BEGIN:DAYLIGHT
TZOFFSETFROM:+0000
TZOFFSETTO:+0100
TZNAME:BST
DTSTART:20180325T010000
END:DAYLIGHT
BEGIN:STANDARD
TZOFFSETFROM:+0100
TZOFFSETTO:+0000
TZNAME:GMT
DTSTART:20181028T010000
END:STANDARD
END:VTIMEZONE
BEGIN:VEVENT
DTSTART;TZID=Europe/London:20181112T200000
DTEND;TZID=Europe/London:20181112T220000
DTSTAMP:20260426T005359
CREATED:20180211T211339Z
LAST-MODIFIED:20180211T211339Z
UID:1283-1542052800-1542060000@garyryan.co.uk
SUMMARY:Wimbledon Festival - 6 Hands
DESCRIPTION:John Williams\, John Etheridge and Gary Ryan continue their series of 2018 appearances with a performance at St. John’s Church\, Wimbledon \n
URL:https://garyryan.co.uk/event/wimbledon-festival-6-hands/
END:VEVENT
END:VCALENDAR