BEGIN:VCALENDAR
VERSION:2.0
PRODID:-//Gary Ryan - Official Website of the Guitarist and Composer - ECPv5.0.2//NONSGML v1.0//EN
CALSCALE:GREGORIAN
METHOD:PUBLISH
X-WR-CALNAME:Gary Ryan - Official Website of the Guitarist and Composer
X-ORIGINAL-URL:https://garyryan.co.uk
X-WR-CALDESC:Events for Gary Ryan - Official Website of the Guitarist and Composer
BEGIN:VTIMEZONE
TZID:Europe/London
BEGIN:DAYLIGHT
TZOFFSETFROM:+0000
TZOFFSETTO:+0100
TZNAME:BST
DTSTART:20180325T010000
END:DAYLIGHT
BEGIN:STANDARD
TZOFFSETFROM:+0100
TZOFFSETTO:+0000
TZNAME:GMT
DTSTART:20181028T010000
END:STANDARD
END:VTIMEZONE
BEGIN:VEVENT
DTSTART;TZID=Europe/London:20181208T180000
DTEND;TZID=Europe/London:20181208T223000
DTSTAMP:20260420T113727
CREATED:20181121T130033Z
LAST-MODIFIED:20181121T130033Z
UID:1333-1544292000-1544308200@garyryan.co.uk
SUMMARY:Recital - Gitaarsalon de Oostervarders\, Almere\, nr. Amsterdam\, Holland
DESCRIPTION:Gary Ryan will be performing a series of short evening recitals in Almere in the beautiful surroundings of the Gitaarsalon de Oostervaarders \n\n
URL:https://garyryan.co.uk/event/recital-gitaarsalon-de-oostervarders-almere-nr-amsterdam-holland/
END:VEVENT
END:VCALENDAR