BEGIN:VCALENDAR
VERSION:2.0
PRODID:-//Gary Ryan - Official Website of the Guitarist and Composer - ECPv5.0.2//NONSGML v1.0//EN
CALSCALE:GREGORIAN
METHOD:PUBLISH
X-WR-CALNAME:Gary Ryan - Official Website of the Guitarist and Composer
X-ORIGINAL-URL:https://garyryan.co.uk
X-WR-CALDESC:Events for Gary Ryan - Official Website of the Guitarist and Composer
BEGIN:VTIMEZONE
TZID:Europe/London
BEGIN:DAYLIGHT
TZOFFSETFROM:+0000
TZOFFSETTO:+0100
TZNAME:BST
DTSTART:20190331T010000
END:DAYLIGHT
BEGIN:STANDARD
TZOFFSETFROM:+0100
TZOFFSETTO:+0000
TZNAME:GMT
DTSTART:20191027T010000
END:STANDARD
END:VTIMEZONE
BEGIN:VEVENT
DTSTART;TZID=Europe/London:20190413T193000
DTEND;TZID=Europe/London:20190413T213000
DTSTAMP:20260426T025013
CREATED:20160329T215826Z
LAST-MODIFIED:20160329T215826Z
UID:1060-1555183800-1555191000@garyryan.co.uk
SUMMARY:Recital - St. Mark's Unitarian Church\, Castle Terrace\, Edinburgh
DESCRIPTION:Gary Ryan returns to perform an evening recital as part of the Edinburgh Guitar Festival 13 – 15 April 2019. For further information contact mikemcgeary@msn.com (or call 07722 984676) \n  \n
URL:https://garyryan.co.uk/event/recital-edinburgh/
END:VEVENT
END:VCALENDAR