BEGIN:VCALENDAR
VERSION:2.0
PRODID:-//Gary Ryan - Official Website of the Guitarist and Composer - ECPv5.0.2//NONSGML v1.0//EN
CALSCALE:GREGORIAN
METHOD:PUBLISH
X-WR-CALNAME:Gary Ryan - Official Website of the Guitarist and Composer
X-ORIGINAL-URL:https://garyryan.co.uk
X-WR-CALDESC:Events for Gary Ryan - Official Website of the Guitarist and Composer
BEGIN:VTIMEZONE
TZID:Europe/London
BEGIN:DAYLIGHT
TZOFFSETFROM:+0000
TZOFFSETTO:+0100
TZNAME:BST
DTSTART:20180325T010000
END:DAYLIGHT
BEGIN:STANDARD
TZOFFSETFROM:+0100
TZOFFSETTO:+0000
TZNAME:GMT
DTSTART:20181028T010000
END:STANDARD
END:VTIMEZONE
BEGIN:VEVENT
DTSTART;TZID=Europe/London:20181114T193000
DTEND;TZID=Europe/London:20181114T220000
DTSTAMP:20260421T210756
CREATED:20180402T222938Z
LAST-MODIFIED:20180402T222938Z
UID:1292-1542223800-1542232800@garyryan.co.uk
SUMMARY:Reading Concert Hall - 6 Hands
DESCRIPTION:John Williams\, John Etheridge and Gary Ryan continue their series of 2018 appearances with a performance at Reading Concert Hall (RG1 1QH). \n
URL:https://garyryan.co.uk/event/reading-concert-hall-6-hands/
END:VEVENT
END:VCALENDAR