BEGIN:VCALENDAR
VERSION:2.0
PRODID:-//Gary Ryan - Official Website of the Guitarist and Composer - ECPv5.0.2//NONSGML v1.0//EN
CALSCALE:GREGORIAN
METHOD:PUBLISH
X-WR-CALNAME:Gary Ryan - Official Website of the Guitarist and Composer
X-ORIGINAL-URL:https://garyryan.co.uk
X-WR-CALDESC:Events for Gary Ryan - Official Website of the Guitarist and Composer
BEGIN:VTIMEZONE
TZID:Europe/London
BEGIN:DAYLIGHT
TZOFFSETFROM:+0000
TZOFFSETTO:+0100
TZNAME:BST
DTSTART:20190331T010000
END:DAYLIGHT
BEGIN:STANDARD
TZOFFSETFROM:+0100
TZOFFSETTO:+0000
TZNAME:GMT
DTSTART:20191027T010000
END:STANDARD
END:VTIMEZONE
BEGIN:VEVENT
DTSTART;VALUE=DATE:20190311
DTEND;VALUE=DATE:20190315
DTSTAMP:20260422T152804
CREATED:20181121T133231Z
LAST-MODIFIED:20181121T133231Z
UID:1334-1552262400-1552607999@garyryan.co.uk
SUMMARY:Kirker Travel - The Canary Islands and Madeira\, 11 - 14 March 2019
DESCRIPTION:Gary Ryan will be performing with the Piatti Quartet and Simon Rowland Jones as part of Kirker Travel’s Music Cruises series. To include music by Boccherini\, Turina\, Falla\, Piazzolla and Villa-Lobos. \n
URL:https://garyryan.co.uk/event/kirker-travel-the-canary-islands-and-madeira-11-14-march-2019/
END:VEVENT
END:VCALENDAR