BEGIN:VCALENDAR
VERSION:2.0
PRODID:-//Gary Ryan - Official Website of the Guitarist and Composer - ECPv5.0.2//NONSGML v1.0//EN
CALSCALE:GREGORIAN
METHOD:PUBLISH
X-WR-CALNAME:Gary Ryan - Official Website of the Guitarist and Composer
X-ORIGINAL-URL:https://garyryan.co.uk
X-WR-CALDESC:Events for Gary Ryan - Official Website of the Guitarist and Composer
BEGIN:VTIMEZONE
TZID:Europe/London
BEGIN:DAYLIGHT
TZOFFSETFROM:+0000
TZOFFSETTO:+0100
TZNAME:BST
DTSTART:20190331T010000
END:DAYLIGHT
BEGIN:STANDARD
TZOFFSETFROM:+0100
TZOFFSETTO:+0000
TZNAME:GMT
DTSTART:20191027T010000
END:STANDARD
END:VTIMEZONE
BEGIN:VEVENT
DTSTART;TZID=Europe/London:20190201T190000
DTEND;TZID=Europe/London:20190201T210000
DTSTAMP:20260423T025040
CREATED:20181002T201411Z
LAST-MODIFIED:20181002T201411Z
UID:1317-1549047600-1549054800@garyryan.co.uk
SUMMARY:Gary Ryan and Craig Ogden - The Ship Theatre\, Walthamstow Hall School\, Sevenoaks\, Kent
DESCRIPTION:Gary Ryan and Craig Ogden present an evening of solos and duos as part of Walthamstow Hall’s Pro Music Concert Series. To reserve tickets email whoffice@whall.school or call 01732 451334 \n
URL:https://garyryan.co.uk/event/gary-ryan-and-craig-ogden-the-ship-theatre-walthamstow-hall-school-sevenoaks-kent/
END:VEVENT
END:VCALENDAR