BEGIN:VCALENDAR
VERSION:2.0
PRODID:-//Gary Ryan - Official Website of the Guitarist and Composer - ECPv5.0.2//NONSGML v1.0//EN
CALSCALE:GREGORIAN
METHOD:PUBLISH
X-WR-CALNAME:Gary Ryan - Official Website of the Guitarist and Composer
X-ORIGINAL-URL:https://garyryan.co.uk
X-WR-CALDESC:Events for Gary Ryan - Official Website of the Guitarist and Composer
BEGIN:VTIMEZONE
TZID:Europe/London
BEGIN:DAYLIGHT
TZOFFSETFROM:+0000
TZOFFSETTO:+0100
TZNAME:BST
DTSTART:20190331T010000
END:DAYLIGHT
BEGIN:STANDARD
TZOFFSETFROM:+0100
TZOFFSETTO:+0000
TZNAME:GMT
DTSTART:20191027T010000
END:STANDARD
END:VTIMEZONE
BEGIN:VEVENT
DTSTART;TZID=Europe/London:20190330T203000
DTEND;TZID=Europe/London:20190330T223000
DTSTAMP:20260425T211329
CREATED:20161205T234557Z
LAST-MODIFIED:20161205T234557Z
UID:1136-1553977800-1553985000@garyryan.co.uk
SUMMARY:Centro Civico\, La Herradura\, Spain
DESCRIPTION:Gary Ryan returns to perform at the Centro Civico in La Herradura\, Spain. For further information contact hillguitars@mac.com \n
URL:https://garyryan.co.uk/event/centro-civico-la-herradura-spain/
END:VEVENT
END:VCALENDAR