BEGIN:VCALENDAR
VERSION:2.0
PRODID:-//Gary Ryan - Official Website of the Guitarist and Composer - ECPv5.0.2//NONSGML v1.0//EN
CALSCALE:GREGORIAN
METHOD:PUBLISH
X-WR-CALNAME:Gary Ryan - Official Website of the Guitarist and Composer
X-ORIGINAL-URL:https://garyryan.co.uk
X-WR-CALDESC:Events for Gary Ryan - Official Website of the Guitarist and Composer
BEGIN:VTIMEZONE
TZID:Europe/London
BEGIN:DAYLIGHT
TZOFFSETFROM:+0000
TZOFFSETTO:+0100
TZNAME:BST
DTSTART:20180325T010000
END:DAYLIGHT
BEGIN:STANDARD
TZOFFSETFROM:+0100
TZOFFSETTO:+0000
TZNAME:GMT
DTSTART:20181028T010000
END:STANDARD
END:VTIMEZONE
BEGIN:VEVENT
DTSTART;VALUE=DATE:20181214
DTEND;VALUE=DATE:20181217
DTSTAMP:20260421T223426
CREATED:20180512T135255Z
LAST-MODIFIED:20180512T135255Z
UID:1298-1544745600-1545004799@garyryan.co.uk
SUMMARY:Calcutta International Classical Guitar Festival 2018
DESCRIPTION:Gary Ryan will be performing and teaching at the 2018 Calcutta International Guitar Festival\, 14 – 16 December. \n
URL:https://garyryan.co.uk/event/calcutta-international-classical-guitar-festival-2018/
END:VEVENT
END:VCALENDAR