BEGIN:VCALENDAR
VERSION:2.0
PRODID:-//Gary Ryan - Official Website of the Guitarist and Composer - ECPv5.0.2//NONSGML v1.0//EN
CALSCALE:GREGORIAN
METHOD:PUBLISH
X-WR-CALNAME:Gary Ryan - Official Website of the Guitarist and Composer
X-ORIGINAL-URL:https://garyryan.co.uk
X-WR-CALDESC:Events for Gary Ryan - Official Website of the Guitarist and Composer
BEGIN:VTIMEZONE
TZID:Europe/London
BEGIN:DAYLIGHT
TZOFFSETFROM:+0000
TZOFFSETTO:+0100
TZNAME:BST
DTSTART:20190331T010000
END:DAYLIGHT
BEGIN:STANDARD
TZOFFSETFROM:+0100
TZOFFSETTO:+0000
TZNAME:GMT
DTSTART:20191027T010000
END:STANDARD
END:VTIMEZONE
BEGIN:VEVENT
DTSTART;VALUE=DATE:20190405
DTEND;VALUE=DATE:20190407
DTSTAMP:20260426T005437
CREATED:20190119T134750Z
LAST-MODIFIED:20190119T134750Z
UID:1340-1554422400-1554595199@garyryan.co.uk
SUMMARY:Adjudicating - Feis Ceoil\, Dublin
DESCRIPTION:Gary Ryan will be adjudicating at Feis Ceoil in Dublin on the 5th and 6th of April. \n
URL:https://garyryan.co.uk/event/adjudicating-feis-ceoil-dublin/
END:VEVENT
END:VCALENDAR